BEGIN:VCALENDAR
VERSION:2.0
PRODID:-//hacksw/handcal//NONSGML v1.0//EN
BEGIN:VEVENT
DTSTAMP:20230130T190000Z
DTSTART:20230130T190000Z
DTEND:20230130T190000Z
LOCATION:Online-Veranstaltung, Deutschland
SUMMARY:CDU Stormarn - Arbeitskreis Außen- und Sicherheitspolitik
END:VEVENT
END:VCALENDAR
