BEGIN:VCALENDAR
VERSION:2.0
PRODID:-//hacksw/handcal//NONSGML v1.0//EN
BEGIN:VEVENT
DTSTAMP:20230308T183000Z
DTSTART:20230308T183000Z
DTEND:20230308T183000Z
LOCATION:Bürgerhaus (kleiner Saal), Heideweg 1, Timmerhorn/Klein Hansdorf, 22941, Deutschland
SUMMARY:CDU Jersbek - Jahreshauptversammlung inkl. Vorstandswahl
END:VEVENT
END:VCALENDAR
