BEGIN:VCALENDAR
VERSION:2.0
PRODID:-//hacksw/handcal//NONSGML v1.0//EN
BEGIN:VEVENT
DTSTAMP:20230222T183000Z
DTSTART:20230222T183000Z
DTEND:20230222T183000Z
LOCATION:Gemeinschaftshaus, Dorfstraße 43 A, Badendorf, 23619, Deutschland
SUMMARY:CDU Wesenberg - Mitgliederversammlung mit Kandidatenaufstellung
END:VEVENT
END:VCALENDAR
