BEGIN:VCALENDAR
VERSION:2.0
PRODID:-//hacksw/handcal//NONSGML v1.0//EN
BEGIN:VEVENT
DTSTAMP:20230203T180000Z
DTSTART:20230203T180000Z
DTEND:20230203T180000Z
LOCATION:In der „Kratzmann’schen Kate“, Reinbeker Str. 4, Stapelfeld, 22145, Deutschland
SUMMARY:CDU Stapelfeld - Mitgliederversammlung mit Kandidatenaufstellung KW 2023
END:VEVENT
END:VCALENDAR
