BEGIN:VCALENDAR
VERSION:2.0
PRODID:-//hacksw/handcal//NONSGML v1.0//EN
BEGIN:VEVENT
DTSTAMP:20230301T190000Z
DTSTART:20230301T190000Z
DTEND:20230301T190000Z
LOCATION:Onlinesitzung, den Anmeldelink erhalten Sie über Ihre Anmeldung unter kontakt@cdu-stormarn.de, Deutschland
SUMMARY:CDU Stormarn - Arbeitskreis Außen- und Sicherheitspolitik
END:VEVENT
END:VCALENDAR
