BEGIN:VCALENDAR
VERSION:2.0
PRODID:-//hacksw/handcal//NONSGML v1.0//EN
BEGIN:VEVENT
DTSTAMP:20230315T180000Z
DTSTART:20230315T180000Z
DTEND:20230315T180000Z
LOCATION:Hofsaal im Schloss Reinbek, Schloßstraße 5, Reinbek, 21465, Deutschland
SUMMARY:CDU Reinbek - Einladung zum traditionellen Entenessen
END:VEVENT
END:VCALENDAR
