BEGIN:VCALENDAR
VERSION:2.0
PRODID:-//hacksw/handcal//NONSGML v1.0//EN
BEGIN:VEVENT
DTSTAMP:20230413T170000Z
DTSTART:20230413T170000Z
DTEND:20230413T170000Z
LOCATION:Showroom der Firma 1KOMMA5°, Ballindamm 11, Hamburg, 20095, Deutschland
SUMMARY:CDU Barsbüttel - Energiewende – was kann jeder Einzelne tun?
END:VEVENT
END:VCALENDAR
