BEGIN:VCALENDAR
VERSION:2.0
PRODID:-//hacksw/handcal//NONSGML v1.0//EN
BEGIN:VEVENT
DTSTAMP:20230331T160000Z
DTSTART:20230331T160000Z
DTEND:20230331T160000Z
LOCATION:Bürgersaal Oststeinbek, Möllner Landstraße 22, Oststeinbek, 22113, Deutschland
SUMMARY:CDU Oststeinbek - Vortrag mit Roderich Kiesewetter (MdB)
END:VEVENT
END:VCALENDAR
