BEGIN:VCALENDAR
VERSION:2.0
PRODID:-//hacksw/handcal//NONSGML v1.0//EN
BEGIN:VEVENT
DTSTAMP:20230402T090000Z
DTSTART:20230402T090000Z
DTEND:20230402T120000Z
LOCATION:Ganztagszentrum --> Standmeldungen unter der CDU-Hotline 04532 – 5650, Am Markt 2, Bargteheide, 22941, Deutschland
SUMMARY:CDU Bargteheide - Flohmarkt für Kinderartikel
END:VEVENT
END:VCALENDAR
