BEGIN:VCALENDAR
VERSION:2.0
PRODID:-//hacksw/handcal//NONSGML v1.0//EN
BEGIN:VEVENT
DTSTAMP:20230404T170000Z
DTSTART:20230404T170000Z
DTEND:20230404T170000Z
LOCATION:Hotel Wiggers, Bahnhofstraße 33 , Bad Oldesloe, 23843, Deutschland
SUMMARY:CDU Bad Oldesloe - Mitgliederversammlung zum Beschluss des Wahlprogramms
END:VEVENT
END:VCALENDAR
