BEGIN:VCALENDAR
VERSION:2.0
PRODID:-//hacksw/handcal//NONSGML v1.0//EN
BEGIN:VEVENT
DTSTAMP:20230423T090000Z
DTSTART:20230423T090000Z
DTEND:20230423T090000Z
LOCATION:Gemeinschaftshaus, Buchrader Weg 2, Rethwisch, 23847, Deutschland
SUMMARY:CDU Rethwisch - Lernen Sie uns kennen
END:VEVENT
END:VCALENDAR
