BEGIN:VCALENDAR
VERSION:2.0
PRODID:-//hacksw/handcal//NONSGML v1.0//EN
BEGIN:VEVENT
DTSTAMP:20230913T173000Z
DTSTART:20230913T173000Z
DTEND:20230913T173000Z
LOCATION:Veranstaltungsort wird noch festgelegt., Deutschland
SUMMARY:CDU Stormarn - Kreisverbandsausschuss - #SaveTheDate
END:VEVENT
END:VCALENDAR
