BEGIN:VCALENDAR
VERSION:2.0
PRODID:-//hacksw/handcal//NONSGML v1.0//EN
BEGIN:VEVENT
DTSTAMP:20230506T130000Z
DTSTART:20230506T130000Z
DTEND:20230506T130000Z
LOCATION:Lorentzenstraße 38, Bad Oldesloe, 23843, Deutschland
SUMMARY:CDU Bad Oldesloe - Anbacken in Bad Oldesloe
END:VEVENT
END:VCALENDAR
