BEGIN:VCALENDAR
VERSION:2.0
PRODID:-//hacksw/handcal//NONSGML v1.0//EN
BEGIN:VEVENT
DTSTAMP:20230514T153000Z
DTSTART:20230514T153000Z
DTEND:20230514T153000Z
LOCATION:Restaurant Strehl, Reeshoop 50, Ahrensburg, 22926, Deutschland
SUMMARY:CDU Ahrensburg - Wahlparty
END:VEVENT
END:VCALENDAR
