BEGIN:VCALENDAR
VERSION:2.0
PRODID:-//hacksw/handcal//NONSGML v1.0//EN
BEGIN:VEVENT
DTSTAMP:20230506T063000Z
DTSTART:20230506T063000Z
DTEND:20230506T093000Z
LOCATION:Vorm Kaufmannsladen, Hinter der Schule 1, Stapelfeld, 22145, Deutschland
SUMMARY:CDU Stapelfeld - Infostand zur Kommunalwahl
END:VEVENT
END:VCALENDAR
