BEGIN:VCALENDAR
VERSION:2.0
PRODID:-//hacksw/handcal//NONSGML v1.0//EN
BEGIN:VEVENT
DTSTAMP:20230623T160000Z
DTSTART:20230623T160000Z
DTEND:20230623T160000Z
LOCATION:Hof Stapelfeldt, Hofplatz, Bachstr. 8, 22941 Hammoor, Deutschland
SUMMARY:CDU Hammoor, Oldtimertreffen-Grillfest
END:VEVENT
END:VCALENDAR
