BEGIN:VCALENDAR
VERSION:2.0
PRODID:-//hacksw/handcal//NONSGML v1.0//EN
BEGIN:VEVENT
DTSTAMP:20230806T220000Z
DTSTART:20230806T220000Z
DTEND:20230817T220000Z
SUMMARY:CDU Stormarn - Kreisgeschäftsstelle geschlossen (Sommerurlaub 7.8. - 18.8.)
END:VEVENT
END:VCALENDAR
