BEGIN:VCALENDAR
VERSION:2.0
PRODID:-//hacksw/handcal//NONSGML v1.0//EN
BEGIN:VEVENT
DTSTAMP:20230829T220000Z
DTSTART:20230829T220000Z
DTEND:20230831T220000Z
LOCATION:Magdeburg, Deutschland
SUMMARY:SU Stormarn - Bundesdelegiertenversammlung
END:VEVENT
END:VCALENDAR
