BEGIN:VCALENDAR
VERSION:2.0
PRODID:-//hacksw/handcal//NONSGML v1.0//EN
BEGIN:VEVENT
DTSTAMP:20231004T190000Z
DTSTART:20231004T190000Z
DTEND:20231004T190000Z
SUMMARY:CDU Stormarn - Arbeitskreis 1 "Sicherheit" - Online-Sitzung
END:VEVENT
END:VCALENDAR
