BEGIN:VCALENDAR
VERSION:2.0
PRODID:-//hacksw/handcal//NONSGML v1.0//EN
BEGIN:VEVENT
DTSTAMP:20240110T180000Z
DTSTART:20240110T180000Z
DTEND:20240110T180000Z
LOCATION:stb-care Holding GmbH im Jagdschloss Malepartus, Tremsbütteler Weg 102, Bargteheide, 22941, Deutschland
SUMMARY:MIT Stormarn & S-H - Neujahrsempfang mit Dr. Carsten Linnemann (MdB)
END:VEVENT
END:VCALENDAR
