BEGIN:VCALENDAR
VERSION:2.0
PRODID:-//hacksw/handcal//NONSGML v1.0//EN
BEGIN:VEVENT
DTSTAMP:20241004T220000Z
DTSTART:20241004T220000Z
DTEND:20241008T220000Z
LOCATION:Deutschland
SUMMARY:SU Tremsbüttel / Hammoor - Fahrt durch Sächsische Schweiz
END:VEVENT
END:VCALENDAR
