BEGIN:VCALENDAR
VERSION:2.0
PRODID:-//hacksw/handcal//NONSGML v1.0//EN
BEGIN:VEVENT
DTSTAMP:20240909T220000Z
DTSTART:20240909T220000Z
DTEND:20240909T220000Z
LOCATION:Deutschland
SUMMARY:SU Tremsbüttel / Hammoor - Rundfahrt durch Altes Land
END:VEVENT
END:VCALENDAR
