BEGIN:VCALENDAR
VERSION:2.0
PRODID:-//hacksw/handcal//NONSGML v1.0//EN
BEGIN:VEVENT
DTSTAMP:20240320T230000Z
DTSTART:20240320T230000Z
DTEND:20240320T230000Z
LOCATION:Deutschland
SUMMARY:SU Tremsbüttel / Hammoor - Kaffeefahrt Willkommenshöft-Schulauer Fährhaus
END:VEVENT
END:VCALENDAR
