BEGIN:VCALENDAR
VERSION:2.0
PRODID:-//hacksw/handcal//NONSGML v1.0//EN
BEGIN:VEVENT
DTSTAMP:20240930T153000Z
DTSTART:20240930T153000Z
DTEND:20240930T153000Z
LOCATION:Einwahllink wird den Mitgliedern des Kreisvorstandes bekannt gegeben., Deutschland
SUMMARY:CDU Stormarn - Sitzung des Kreisvorstandes (online)
END:VEVENT
END:VCALENDAR
