BEGIN:VCALENDAR
VERSION:2.0
PRODID:-//hacksw/handcal//NONSGML v1.0//EN
BEGIN:VEVENT
DTSTAMP:20240616T090000Z
DTSTART:20240616T090000Z
DTEND:20240616T090000Z
LOCATION:Restaurant Strehl (Einlass ab 10:30 Uhr), Reeshoop 50, Ahrensburg, 22926, Deutschland
SUMMARY:CDU Stormarn - Jahresempfang (nur geladene Gäste)
END:VEVENT
END:VCALENDAR
