BEGIN:VCALENDAR
VERSION:2.0
PRODID:-//hacksw/handcal//NONSGML v1.0//EN
BEGIN:VEVENT
DTSTAMP:20241014T153000Z
DTSTART:20241014T153000Z
DTEND:20241014T153000Z
LOCATION:Onlineveranstaltung über WebEx, Deutschland
SUMMARY:CDU Stormarn - Kommunalpolitischer Austausch für Mitglieder
END:VEVENT
END:VCALENDAR
