BEGIN:VCALENDAR
VERSION:2.0
PRODID:-//hacksw/handcal//NONSGML v1.0//EN
BEGIN:VEVENT
DTSTAMP:20240327T183000Z
DTSTART:20240327T183000Z
DTEND:20240327T183000Z
LOCATION:Erich-Kästner-Gemeinschaftsschule (Aula), Soltausredder 28, Barsbüttel, 22885, Deutschland
SUMMARY:CDU Stormarn - Kreisverbandsausschuss (KVA) - offen für Mitglieder
END:VEVENT
END:VCALENDAR
