BEGIN:VCALENDAR
VERSION:2.0
PRODID:-//hacksw/handcal//NONSGML v1.0//EN
BEGIN:VEVENT
DTSTAMP:20240306T183000Z
DTSTART:20240306T183000Z
DTEND:20240306T183000Z
LOCATION:Im Hotel Wiggers, Bahnhofstraße 33 , Bad Oldesloe, 23843, Deutschland
SUMMARY:CDU Stormarn - Infoveranstaltung zum CDU Grundsatzprogramm
END:VEVENT
END:VCALENDAR
