BEGIN:VCALENDAR
VERSION:2.0
PRODID:-//hacksw/handcal//NONSGML v1.0//EN
BEGIN:VEVENT
DTSTAMP:20240310T150000Z
DTSTART:20240310T150000Z
DTEND:20240310T150000Z
LOCATION:Busfahrt zur Laeiszhalle, Hamburg, Deutschland
SUMMARY:SU Ahrensburg - Frühlingsgala im Sonntagskonzert
END:VEVENT
END:VCALENDAR
