BEGIN:VCALENDAR
VERSION:2.0
PRODID:-//hacksw/handcal//NONSGML v1.0//EN
BEGIN:VEVENT
DTSTAMP:20240505T220000Z
DTSTART:20240505T220000Z
DTEND:20240507T220000Z
LOCATION:Estrel Congress Center, Berlin, Deutschland
SUMMARY:CDU Deutschland - 36. Bundesparteitag
END:VEVENT
END:VCALENDAR
