BEGIN:VCALENDAR
VERSION:2.0
PRODID:-//hacksw/handcal//NONSGML v1.0//EN
BEGIN:VEVENT
DTSTAMP:20241119T180000Z
DTSTART:20241119T180000Z
DTEND:20241119T180000Z
LOCATION:Landeshaus bzw. Online, Düsternbrooker Weg 70, Kiel, 24105, Deutschland
SUMMARY:KPV S-H - Gedankenaustausch "Pressearbeit der Fraktionen vor Ort"
END:VEVENT
END:VCALENDAR
