BEGIN:VCALENDAR
VERSION:2.0
PRODID:-//hacksw/handcal//NONSGML v1.0//EN
BEGIN:VEVENT
DTSTAMP:20240327T171500Z
DTSTART:20240327T171500Z
DTEND:20240327T171500Z
LOCATION:Erich-Kästner-Gemeinschaftsschule,  Soltaustredder 28, Barsbüttel, 22885, Deutschland
SUMMARY:KPV Stormarn - Kreisvertreterversammlung
END:VEVENT
END:VCALENDAR
