BEGIN:VCALENDAR
VERSION:2.0
PRODID:-//hacksw/handcal//NONSGML v1.0//EN
BEGIN:VEVENT
DTSTAMP:20240517T150000Z
DTSTART:20240517T150000Z
DTEND:20240517T150000Z
LOCATION:Marktplatz, Glinde, Deutschland
SUMMARY:Europawahl 2024 - Veranstaltung mit Daniel Günther und Niclas Herbst
END:VEVENT
END:VCALENDAR
