BEGIN:VCALENDAR
VERSION:2.0
PRODID:-//hacksw/handcal//NONSGML v1.0//EN
BEGIN:VEVENT
DTSTAMP:20240501T090000Z
DTSTART:20240501T090000Z
DTEND:20240501T090000Z
LOCATION:Am Kreisel bei ALDI - BUDNI - EDEKA, Tangstedt, Deutschland
SUMMARY:CDU Tangstedt - Maibaum aufstellen mit Niclas Herbst (MdEP)
END:VEVENT
END:VCALENDAR
