BEGIN:VCALENDAR
VERSION:2.0
PRODID:-//hacksw/handcal//NONSGML v1.0//EN
BEGIN:VEVENT
DTSTAMP:20240514T160000Z
DTSTART:20240514T160000Z
DTEND:20240514T160000Z
LOCATION:Berufsschule, Schanzenbarg 2a, Bad Oldesloe, 23843, Deutschland
SUMMARY:Podiumsdiskussion „Was hat Europa mit mir zu tun?“
END:VEVENT
END:VCALENDAR
