BEGIN:VCALENDAR
VERSION:2.0
PRODID:-//hacksw/handcal//NONSGML v1.0//EN
BEGIN:VEVENT
DTSTAMP:20240614T123000Z
DTSTART:20240614T123000Z
DTEND:20240614T123000Z
LOCATION:Ort ist den Mitgliedern des KV bekannt., Bad Oldesloe, Deutschland
SUMMARY:KPV Stormarn - Kreisvorstand (Präsenzsitzung)
END:VEVENT
END:VCALENDAR
