BEGIN:VCALENDAR
VERSION:2.0
PRODID:-//hacksw/handcal//NONSGML v1.0//EN
BEGIN:VEVENT
DTSTAMP:20240617T170000Z
DTSTART:20240617T170000Z
DTEND:20240617T170000Z
LOCATION:WeinWelt27, Hindenburgstr. 27, Bad Oldesloe, Deutschland
SUMMARY:CDU Bad Oldesloe - Berlin aktuell mit Melanie Bernstein (MdB)
END:VEVENT
END:VCALENDAR
