BEGIN:VCALENDAR
VERSION:2.0
PRODID:-//hacksw/handcal//NONSGML v1.0//EN
BEGIN:VEVENT
DTSTAMP:20240617T170000Z
DTSTART:20240617T170000Z
DTEND:20240617T170000Z
LOCATION:Kantine des Rathauses, Reinbek, 21465, Deutschland
SUMMARY:CDU Reinbek - Jahreshauptversammlung (inkl. Vorstandswahlen)
END:VEVENT
END:VCALENDAR
