BEGIN:VCALENDAR
VERSION:2.0
PRODID:-//hacksw/handcal//NONSGML v1.0//EN
BEGIN:VEVENT
DTSTAMP:20240621T160000Z
DTSTART:20240621T160000Z
DTEND:20240621T160000Z
LOCATION:Auf dem Hofplatz, Bachstraße 8, Hammoor, 22941, Deutschland
SUMMARY:CDU Hammoor - Oldtimer-Treffen 
END:VEVENT
END:VCALENDAR
