BEGIN:VCALENDAR
VERSION:2.0
PRODID:-//hacksw/handcal//NONSGML v1.0//EN
BEGIN:VEVENT
DTSTAMP:20240701T173000Z
DTSTART:20240701T173000Z
DTEND:20240701T173000Z
LOCATION:„Gasthof unter den Linden“ (Oetjen), Dorfstraße 23, Grönwohld, 22956, Deutschland
SUMMARY:CDU Grönwohld - Mitgliederversammlung
END:VEVENT
END:VCALENDAR
