BEGIN:VCALENDAR
VERSION:2.0
PRODID:-//hacksw/handcal//NONSGML v1.0//EN
BEGIN:VEVENT
DTSTAMP:20240919T170000Z
DTSTART:20240919T170000Z
DTEND:20240919T170000Z
LOCATION:Mensa der Immanuel-Kant-Schule, Bischofsteicher Weg 75b, Reinfeld, 23858, Deutschland
SUMMARY:CDU Stormarn / Ostholstein - Vorstellung der Bewerbungen für WK09
END:VEVENT
END:VCALENDAR
