BEGIN:VCALENDAR
VERSION:2.0
PRODID:-//hacksw/handcal//NONSGML v1.0//EN
BEGIN:VEVENT
DTSTAMP:20241009T170000Z
DTSTART:20241009T170000Z
DTEND:20241009T170000Z
LOCATION:Kreistagssitzungssaal, Mommsenstraße 13, Bad Oldesloe, 23843, Deutschland
SUMMARY:CDU Stormarn - Kreisverbandsausschuss (KVA) - mitgliederoffen
END:VEVENT
END:VCALENDAR
