BEGIN:VCALENDAR
VERSION:2.0
PRODID:-//hacksw/handcal//NONSGML v1.0//EN
BEGIN:VEVENT
DTSTAMP:20241028T173000Z
DTSTART:20241028T173000Z
DTEND:20241028T173000Z
LOCATION:„Svensson Bargteheide“, Rathausstraße 23, Bargteheide, 22941, Deutschland
SUMMARY:CDU Stormarn - Neumitgliedertreffen
END:VEVENT
END:VCALENDAR
