BEGIN:VCALENDAR
VERSION:2.0
PRODID:-//hacksw/handcal//NONSGML v1.0//EN
BEGIN:VEVENT
DTSTAMP:20241122T180000Z
DTSTART:20241122T180000Z
DTEND:20241122T180000Z
LOCATION:Begegnungsstätte, Möllner Landstraße 24A, Oststeinbek, 22113, Deutschland
SUMMARY:CDU Oststeinbek - Jahreshauptversammlung (inkl. Vorstandswahlen)
END:VEVENT
END:VCALENDAR
