BEGIN:VCALENDAR
VERSION:2.0
PRODID:-//hacksw/handcal//NONSGML v1.0//EN
BEGIN:VEVENT
DTSTAMP:20241123T090000Z
DTSTART:20241123T090000Z
DTEND:20241123T090000Z
LOCATION:Café Alsterwiesen, Segeberger Strasse 121, Kayhude, 23863, Deutschland
SUMMARY:Ortsvorsitzendenkonferenz Segeberg/Stormarn-Mitte mit Melanie Bernstein MdB
END:VEVENT
END:VCALENDAR
