BEGIN:VCALENDAR
VERSION:2.0
PRODID:-//hacksw/handcal//NONSGML v1.0//EN
BEGIN:VEVENT
DTSTAMP:20250121T170000Z
DTSTART:20250121T170000Z
DTEND:20250121T170000Z
LOCATION:Restaurant & Hotel "Quellenhof" (Einlass 17 Uhr), Hindenburgstr. 16, Mölln, 23879, Deutschland
SUMMARY:CDU Herzogtum Lauenburg - Neujahrsempfang mit Carsten Linnemann
END:VEVENT
END:VCALENDAR
