BEGIN:VCALENDAR
VERSION:2.0
PRODID:-//hacksw/handcal//NONSGML v1.0//EN
BEGIN:VEVENT
DTSTAMP:20250127T230000Z
DTSTART:20250127T230000Z
DTEND:20250130T230000Z
SUMMARY:SU Trittau - Veranstaltungsprogramm 2025
END:VEVENT
END:VCALENDAR
