BEGIN:VCALENDAR
VERSION:2.0
PRODID:-//hacksw/handcal//NONSGML v1.0//EN
BEGIN:VEVENT
DTSTAMP:20250213T183000Z
DTSTART:20250213T183000Z
DTEND:20250213T183000Z
LOCATION:Gaststätte Bern, Mollhagen, Deutschland
SUMMARY:CDU Steinburg - Jahreshauptversammlung (inkl. Vorstandswahlen)
END:VEVENT
END:VCALENDAR
