BEGIN:VCALENDAR
VERSION:2.0
PRODID:-//hacksw/handcal//NONSGML v1.0//EN
BEGIN:VEVENT
DTSTAMP:20250304T183000Z
DTSTART:20250304T183000Z
DTEND:20250304T183000Z
LOCATION:Gasthof unter den Linden, Dorfstraße 23, Grönwohld, Deutschland
SUMMARY:CDU Grönwohld - Jahreshauptversammlung
END:VEVENT
END:VCALENDAR
