BEGIN:VCALENDAR
VERSION:2.0
PRODID:-//hacksw/handcal//NONSGML v1.0//EN
BEGIN:VEVENT
DTSTAMP:20250213T060000Z
DTSTART:20250213T060000Z
DTEND:20250213T080000Z
LOCATION:Bahnhof Ahrensburg, Bahnhofstraße 13, Ahrensburg, 22926, Deutschland
SUMMARY:Schwarz trinken – schwarz wählen, mit Henri Schmidt 
END:VEVENT
END:VCALENDAR
